BEGIN:VCALENDAR
VERSION:2.0
PRODID:-//R&amp;R Lotion® - ECPv6.15.11//NONSGML v1.0//EN
CALSCALE:GREGORIAN
METHOD:PUBLISH
X-WR-CALNAME:R&amp;R Lotion®
X-ORIGINAL-URL:https://rrlotion.com
X-WR-CALDESC:Events for R&amp;R Lotion®
REFRESH-INTERVAL;VALUE=DURATION:PT1H
X-Robots-Tag:noindex
X-PUBLISHED-TTL:PT1H
BEGIN:VTIMEZONE
TZID:UTC
BEGIN:STANDARD
TZOFFSETFROM:+0000
TZOFFSETTO:+0000
TZNAME:UTC
DTSTART:20250101T000000
END:STANDARD
END:VTIMEZONE
BEGIN:VEVENT
DTSTART;TZID=UTC:20260615T080000
DTEND;TZID=UTC:20260617T170000
DTSTAMP:20260421T125812
CREATED:20260420T215350Z
LAST-MODIFIED:20260420T224135Z
UID:29210-1781510400-1781715600@rrlotion.com
SUMMARY:ASSP (2026)
DESCRIPTION:
URL:https://rrlotion.com/event/assp-2026/
LOCATION:Anaheim Convention Center\, 800 West Katella Avenue\, Anaheim\, CA\, 92802\, United States
ATTACH;FMTTYPE=image/jpeg:https://rrlotion.com/wp-content/uploads/2018/08/houston-convention.jpg
END:VEVENT
BEGIN:VEVENT
DTSTART;TZID=UTC:20260830T080000
DTEND;TZID=UTC:20260902T170000
DTSTAMP:20260421T125812
CREATED:20260420T215107Z
LAST-MODIFIED:20260420T215107Z
UID:29207-1788076800-1788368400@rrlotion.com
SUMMARY:VPPPA (2026)
DESCRIPTION:
URL:https://rrlotion.com/event/vpppa-2026/
LOCATION:Gaylord Opryland Convention Center\, 2800 Opryland Drive\, \, USA\, Nashville\, TN\, 37214\, United States
ATTACH;FMTTYPE=image/jpeg:https://rrlotion.com/wp-content/uploads/2017/01/convention_center-1.jpeg
END:VEVENT
BEGIN:VEVENT
DTSTART;TZID=UTC:20260914T090000
DTEND;TZID=UTC:20260916T163000
DTSTAMP:20260421T125812
CREATED:20260420T214627Z
LAST-MODIFIED:20260420T214627Z
UID:29204-1789376400-1789576200@rrlotion.com
SUMMARY:NSC (2026)
DESCRIPTION:
URL:https://rrlotion.com/event/nsc-2026/
LOCATION:Indiana Convention Center\, 30 S Meridian #410\, Indianapolis\, IN\, 46204\, United States
ATTACH;FMTTYPE=image/jpeg:https://rrlotion.com/wp-content/uploads/2017/01/Short_North_Columbus_Ohio_CAPAAB0154.jpeg
END:VEVENT
END:VCALENDAR